BEGIN:VCALENDAR
VERSION:2.0
PRODID:-//Janice Rhoshalle Littlejohn - ECPv6.15.20//NONSGML v1.0//EN
CALSCALE:GREGORIAN
METHOD:PUBLISH
X-ORIGINAL-URL:https://janicelittlejohn.com
X-WR-CALDESC:Events for Janice Rhoshalle Littlejohn
REFRESH-INTERVAL;VALUE=DURATION:PT1H
X-Robots-Tag:noindex
X-PUBLISHED-TTL:PT1H
BEGIN:VTIMEZONE
TZID:America/Los_Angeles
BEGIN:DAYLIGHT
TZOFFSETFROM:-0800
TZOFFSETTO:-0700
TZNAME:PDT
DTSTART:20200308T100000
END:DAYLIGHT
BEGIN:STANDARD
TZOFFSETFROM:-0700
TZOFFSETTO:-0800
TZNAME:PST
DTSTART:20201101T090000
END:STANDARD
BEGIN:DAYLIGHT
TZOFFSETFROM:-0800
TZOFFSETTO:-0700
TZNAME:PDT
DTSTART:20210314T100000
END:DAYLIGHT
BEGIN:STANDARD
TZOFFSETFROM:-0700
TZOFFSETTO:-0800
TZNAME:PST
DTSTART:20211107T090000
END:STANDARD
BEGIN:DAYLIGHT
TZOFFSETFROM:-0800
TZOFFSETTO:-0700
TZNAME:PDT
DTSTART:20220313T100000
END:DAYLIGHT
BEGIN:STANDARD
TZOFFSETFROM:-0700
TZOFFSETTO:-0800
TZNAME:PST
DTSTART:20221106T090000
END:STANDARD
END:VTIMEZONE
BEGIN:VEVENT
DTSTART;TZID=America/Los_Angeles:20210624T170000
DTEND;TZID=America/Los_Angeles:20210624T180000
DTSTAMP:20260423T095253
CREATED:20210622T170050Z
LAST-MODIFIED:20210622T203139Z
UID:1099-1624554000-1624557600@janicelittlejohn.com
SUMMARY:(Screen) Writing Against Type
DESCRIPTION:A LARB conversation w/ Brandon Easton\, Walter Mosley\, Paula Yoo\, & Janice Rhoshalle Littlejohn on writing\, genre\, and audience expectations. \nJoin the Los Angeles Review of Books on Thursday\, June 24 at 5pm (PST) for a roundtable conversation with acclaimed authors and screenwriters Brandon Easton\, Walter Mosley\, & Paula Yoo\, moderated by journalist and author Janice Rhoshalle Littlejohn. \nThis event is free and open to the public. \nRegister here.
URL:https://janicelittlejohn.com/event/screenwriting-against-type/
LOCATION:Virtual
CATEGORIES:Moderating
ATTACH;FMTTYPE=image/jpeg:https://janicelittlejohn.com/wp-content/uploads/2021/06/screenwriting-copy.jpg
END:VEVENT
BEGIN:VEVENT
DTSTART;TZID=America/Los_Angeles:20210527T190000
DTEND;TZID=America/Los_Angeles:20210527T200000
DTSTAMP:20260423T095253
CREATED:20210520T165301Z
LAST-MODIFIED:20210520T173545Z
UID:1093-1622142000-1622145600@janicelittlejohn.com
SUMMARY:Life\, Death & Money: Aretha Franklin
DESCRIPTION:I’ll be providing commentary for the Reelz Channel docuseries\, Life\, Death & Money: Aretha Franklin. Tune in! \nWhen the Queen of Soul\, Aretha Franklin\, died in 2018\, her estate was worth approximately $80 million — and at first\, even without a will left behind\, everything was peaceful between her remaining four sons. However\, shortly after her death\, it is revealed that Aretha Franklin didn’t just leave behind one will — she left behind three\, all handwritten and concealed within the confines of her private residence. One was even tucked away under the couch cushions. The wills seem to contradict each other and have sections that are illegible. But if one is declared valid\, it could spark a massive feud between Franklin’s four sons. Now\, the discussion isn’t about Franklin’s long and storied career\, but who will inherit her millions. \nThursday\, May 27 at 10 pm ET/7 pm PT with an encore airing on Friday\, May 28 at 2 am ET/ 11 pm PT
URL:https://janicelittlejohn.com/event/life-death-money-aretha-franklin/
LOCATION:Virtual
CATEGORIES:Interview
ATTACH;FMTTYPE=image/jpeg:https://janicelittlejohn.com/wp-content/uploads/2021/05/LDMArethaFranklinClean-768x432-1.jpeg
END:VEVENT
BEGIN:VEVENT
DTSTART;TZID=America/Los_Angeles:20210522T180000
DTEND;TZID=America/Los_Angeles:20210522T190000
DTSTAMP:20260423T095253
CREATED:20210520T161954Z
LAST-MODIFIED:20210520T173552Z
UID:1089-1621706400-1621710000@janicelittlejohn.com
SUMMARY:Life\, Death & Money: Redd Foxx
DESCRIPTION:I’ll be providing commentary for the Reelz Channel docuseries\, Life\, Death & Money: Redd Foxx. Tune in! \nOn October 11\, 1991\, beloved comedian and TV star Foxx suffered a massive heart attack on the set of his new sitcom\, The Royal Family. He leaves behind a collection of comedy gold — but also a string of failed marriages and a mountain of debt to the tune of $3.6 million. The debt is where Redd Foxx”s story is unlike most other celebrity death cases. His family and friends aren’t fighting over all the money he had. Instead\, they are scrambling to foot the bill to pay back the comedian’s lavish lifestyle. \nSaturday\, May 22 at 9 pm ET/6 pm PT with an encore airing on Sunday\, May 23 at 1 am ET/ 10 pm PT
URL:https://janicelittlejohn.com/event/life-death-money-redd-foxx/
LOCATION:Virtual
CATEGORIES:Interview
ATTACH;FMTTYPE=image/jpeg:https://janicelittlejohn.com/wp-content/uploads/2021/05/SLIDER_ReddFoxxLDM_clean-768x432-1.jpeg
END:VEVENT
BEGIN:VEVENT
DTSTART;TZID=America/Los_Angeles:20210520T183000
DTEND;TZID=America/Los_Angeles:20210520T193000
DTSTAMP:20260423T095253
CREATED:20210515T025247Z
LAST-MODIFIED:20210520T165539Z
UID:1066-1621535400-1621539000@janicelittlejohn.com
SUMMARY:In Conversation with Paula Yoo
DESCRIPTION:I will be moderating this conversation for Be the Change\, Glendale Library Arts & Culture. \nFor details and to register\, visit https://www.eglendalelac.org/bethechange \nAuthor Paula Yoo will discuss From A Whisper to a Rallying Cry: The Killing of Vincent Chin and the Trial that Galvanized the Asian American Movement. From A Whisper to a Rallying Cry is a compelling account of the killing of Vincent Chin\, the verdicts that took the Asian American community to the streets in protest\, and the groundbreaking civil rights trial that followed.
URL:https://janicelittlejohn.com/event/paula-yoon-author-talk/
LOCATION:Virtual
CATEGORIES:Moderating
ATTACH;FMTTYPE=image/jpeg:https://janicelittlejohn.com/wp-content/uploads/2021/05/GLAC_BTC_Yoo_INSTAGRAM_1080x1080.jpg
END:VEVENT
END:VCALENDAR